BEGIN:VCALENDAR
VERSION:2.0
PRODID:-//https://www.dalmatiner-deutschland.de///NONSGML kigkonsult.se iCalcreator 2.10.15//
METHOD:PUBLISH
BEGIN:VEVENT
UID:20260421T121029CEST-6725VILGon@https://www.dalmatiner-deutschland.de/
DTSTAMP:20260421T101029Z
DESCRIPTION:Einladung zum Ringtraining mit Theorie und Praxis\nOrt:&nbsp\;S
 portplatz Krosigk\, Petersbergstraße 2\, 06193 Petersberg\nTreffpunkt:&nbs
 p\;13:00 Uhr\nRichter:&nbsp\;Michael Lehmann\nMaximale Teilnehmerzahl:&nbs
 p\;20 Hunde\nMeldeschluß: wenn max. Teilnehmeranzahl erreicht ist\nWichtig
 : Nur mit Anmeldung möglich!!!!\nAnmeldung:regio-ost@dalmatiner-deutschlan
 d.deÄnne Fiedler\nJeder Hund muss über eine Hundehaftpflichtversicherung v
 erfügen. Eine Kopie ist auf Verlangen vorzulegen.\nTeilnahmegebühr: pro Me
 nsch-Hund-Team 30\,00 €\, per Überweisung mit der Anmeldung&nbsp\; https:/
 /www.dalmatiner-deutschland.de/ausstellungen/ergebnisse/event/89-ringtrain
 ing
DTSTART:20230609T110000Z
DTEND:20230609T160000Z
LOCATION:Sportplatz Krosigk\, Petersbergstraße 2\, 06193 Petersberg (Peters
 bergstraße 2\, 06193 Petersberg\, Deutschland)
SUMMARY:Ringtraining 
URL:https://www.dalmatiner-deutschland.de/ausstellungen/ergebnisse/event/89
 -ringtraining
END:VEVENT
END:VCALENDAR
