BEGIN:VCALENDAR
VERSION:2.0
PRODID:-//https://www.dalmatiner-deutschland.de///NONSGML kigkonsult.se iCalcreator 2.10.15//
METHOD:PUBLISH
BEGIN:VEVENT
UID:20260421T160237CEST-8284PL6Vfu@https://www.dalmatiner-deutschland.de/
DTSTAMP:20260421T140237Z
DESCRIPTION:Online-Erstzüchter- und Züchterseminar Modul 4 Teil 1:\nKräuter
 kunde in der Zucht – sanfte&nbsp\;Begleitung rund um Fruchtbarkeit\, Träch
 tigkeit&nbsp\;und AufzuchtEs geht um die natürliche Unterstützung von Hünd
 in und Rüde während der Zuchtzeit. Besprochen werden Kräuter\, die auf san
 fte Weise die Vorbereitung auf den Deckakt\, die Förderung der Fruchtbarke
 it\, die Geburt\, die Laktation\, sowie die Unterstützung bei Scheinträcht
 igkeit begleiten können. Ebenso wird aufgezeigt\, welche Pflanzen in diese
 r Phase gemieden werden sollten.\nReferent:&nbsp\;Kathrin Wimmer\nAnmeldun
 g: per Email unter Angabe der Themen und Hunderasse\, an Petra Kujat&nbsp\
 ;&nbsp\;&nbsp\;&nbsp\;&nbsp\; bildungsobmann@dalmatiner-deutschland.de\nAn
 meldeschluss: 16.03.2026\nVideokonferenztool: zoom\nWann?&nbsp\;17.04.2026
  - 18:00 - 20:00 Uhr&nbsp\;\nTermin Probelauf: 25.03.2026\, um 19:00 Uhr\n
 Damit das Online-Seminar reibungslos klappt\, bieten wir für alle Teilnehm
 er einen Zoom-Meeting Probelauf an.Den Link zum Zoom-Probelauf und zum Zoo
 m-Meeting erhalten Sie jeweils per Email.\nKosten:für DZDG-Mitglieder pro 
 Modul: 5\,00 Euro\nfür nicht DZGD Mitglieder pro Modul: 10\,00 EuroBitte b
 eachten: auch wenn Modul 2\, 4 und 5 an 2 Tagen stattfinden\, so sindsie m
 it&nbsp\;10\,00 Euro bzw. 5\,00 Euro zu bezahlen.\nBezahlung:&nbsp\; &nbsp
 \;Überweisung: an: Volksbank Halle (Saale) eG&nbsp\; &nbsp\; &nbsp\; &nbsp
 \; &nbsp\; &nbsp\; &nbsp\; &nbsp\; &nbsp\; &nbsp\; &nbsp\; &nbsp\;Empfänge
 r: DZGD&nbsp\;&nbsp\;&nbsp\;&nbsp\;&nbsp\;&nbsp\;&nbsp\;&nbsp\;&nbsp\;&nbs
 p\;&nbsp\;&nbsp\;&nbsp\;&nbsp\;&nbsp\;&nbsp\;&nbsp\;&nbsp\;&nbsp\;&nbsp\;&
 nbsp\;&nbsp\; IBAN: DE37 8009 3784 0046 703003\, BIC: GENODEF1HAL&nbsp\;&n
 bsp\;&nbsp\;&nbsp\;&nbsp\;&nbsp\;&nbsp\;&nbsp\;&nbsp\;&nbsp\;&nbsp\;&nbsp\
 ;&nbsp\;&nbsp\;&nbsp\;&nbsp\;&nbsp\;&nbsp\;&nbsp\;&nbsp\;&nbsp\;&nbsp\; Be
 treff:&nbsp\;Züchterseminar 2026\, Name\, Hunderasse\, Module\nFür DZGD-Mi
 tglieder gilt die Teilnahme als anerkannter Nachweis für die erforderliche
  Fort- und Weiterbildung (gemäß Zuchtordnung § 6 (2)).\nAlle Teilnehmer er
 halten ein Zertifikat.\nWir freuen uns auf Ihre Teilnahme am Online 4 Pfot
 en Seminar 2026.\nPetra KujatBildungsobmann der DZGD e.V. https://www.dalm
 atiner-deutschland.de/infocenter/termine/event/304-6-online-erstzuechter-u
 nd-zuechterseminar-2026-modul-4-teil-1
DTSTART:20260417T160000Z
DTEND:20260417T180000Z
LOCATION:Online per Zoom ()
SUMMARY:6. Online-Erstzüchter- und Züchterseminar 2026 - Modul 4 Teil 1
URL:https://www.dalmatiner-deutschland.de/infocenter/termine/event/304-6-on
 line-erstzuechter-und-zuechterseminar-2026-modul-4-teil-1
END:VEVENT
END:VCALENDAR
