BEGIN:VCALENDAR
VERSION:2.0
PRODID:-//https://www.dalmatiner-deutschland.de///NONSGML kigkonsult.se iCalcreator 2.10.15//
METHOD:PUBLISH
BEGIN:VEVENT
UID:20260421T105041CEST-9659u9u96u@https://www.dalmatiner-deutschland.de/
DTSTAMP:20260421T085041Z
DESCRIPTION:Online-Erstzüchter- und Züchterseminar Modul 5 Teil 2:\nAnatomi
 e Teil 2Gangwerk: Vorstellung verschiedener Gangarten und die Auswertung d
 er Gangwerksarten anhand von Videos\nReferent:&nbsp\;Michael Lehmenn\nAnme
 ldung: per Email unter Angabe der Themen und Hunderasse\, an Petra Kujat&n
 bsp\;&nbsp\;&nbsp\;&nbsp\;&nbsp\; bildungsobmann@dalmatiner-deutschland.de
 \nAnmeldeschluss: 16.03.2026\nVideokonferenztool: zoom\nWann?&nbsp\;04.04.
 2026 - 18:00 - 20:00 Uhr&nbsp\;\nTermin Probelauf: 25.03.2026\, um 19:00 U
 hr\nDamit das Online-Seminar reibungslos klappt\, bieten wir für alle Teil
 nehmer einen Zoom-Meeting Probelauf an.Den Link zum Zoom-Probelauf und zum
  Zoom-Meeting erhalten Sie jeweils per Email.\nKosten:für DZDG-Mitglieder 
 pro Modul: 5\,00 Euro\nfür nicht DZGD Mitglieder pro Modul: 10\,00 EuroBit
 te beachten: auch wenn Modul 2\, 4 und 5 an 2 Tagen stattfinden\, so sinds
 ie mit&nbsp\;10\,00 Euro bzw. 5\,00 Euro zu bezahlen.\nBezahlung:&nbsp\; &
 nbsp\;Überweisung: an: Volksbank Halle (Saale) eG&nbsp\; &nbsp\; &nbsp\; &
 nbsp\; &nbsp\; &nbsp\; &nbsp\; &nbsp\; &nbsp\; &nbsp\; &nbsp\; &nbsp\;Empf
 änger: DZGD&nbsp\;&nbsp\;&nbsp\;&nbsp\;&nbsp\;&nbsp\;&nbsp\;&nbsp\;&nbsp\;
 &nbsp\;&nbsp\;&nbsp\;&nbsp\;&nbsp\;&nbsp\;&nbsp\;&nbsp\;&nbsp\;&nbsp\;&nbs
 p\;&nbsp\;&nbsp\; IBAN: DE37 8009 3784 0046 703003\, BIC: GENODEF1HAL&nbsp
 \;&nbsp\;&nbsp\;&nbsp\;&nbsp\;&nbsp\;&nbsp\;&nbsp\;&nbsp\;&nbsp\;&nbsp\;&n
 bsp\;&nbsp\;&nbsp\;&nbsp\;&nbsp\;&nbsp\;&nbsp\;&nbsp\;&nbsp\;&nbsp\;&nbsp\
 ; Betreff:&nbsp\;Züchterseminar 2026\, Name\, Hunderasse\, Module\nFür DZG
 D-Mitglieder gilt die Teilnahme als anerkannter Nachweis für die erforderl
 iche Fort- und Weiterbildung (gemäß Zuchtordnung § 6 (2)).\nAlle Teilnehme
 r erhalten ein Zertifikat.\nWir freuen uns auf Ihre Teilnahme am Online 4 
 Pfoten Seminar 2026.\nPetra KujatBildungsobmann der DZGD e.V. https://www.
 dalmatiner-deutschland.de/infocenter/termine/event/307-6-online-erstzuecht
 er-und-zuechterseminar-2026-modul-5-teil-2
DTSTART:20260404T160000Z
DTEND:20260404T180000Z
LOCATION:Online per Zoom ()
SUMMARY:6. Online-Erstzüchter- und Züchterseminar 2026 - Modul 5 Teil 2
URL:https://www.dalmatiner-deutschland.de/infocenter/termine/event/307-6-on
 line-erstzuechter-und-zuechterseminar-2026-modul-5-teil-2
END:VEVENT
END:VCALENDAR
