BEGIN:VCALENDAR
VERSION:2.0
PRODID:-//https://www.dalmatiner-deutschland.de///NONSGML kigkonsult.se iCalcreator 2.10.15//
METHOD:PUBLISH
BEGIN:VEVENT
UID:20260424T164619CEST-5885tI5kpr@https://www.dalmatiner-deutschland.de/
DTSTAMP:20260424T144619Z
DESCRIPTION:3. Online - Erstzüchter- und Züchterseminar\nEinladung\nLiebe Z
 üchter\, Deckrüdenbesitzer und Mitglieder der Dalmatinervereine\, liebe Hu
 ndefreunde\, wir möchten Sie recht herzlich zu unserem 3. Online- Erstzüch
 ter- und Züchterseminar 2023 einladen.\nNeu in diesem Jahr ist\, dass wir 
 unser Seminar erweitert haben mit dem Thema Anatomie.Das komplette Seminar
  besteht nun aus 5 Modulen\, die auch einzeln buchbar sind.\n\n\n\n\nFreit
 ag\, 17.03.2023\n18 bis ca. 20 Uhr\n\n\nModul 1: Die Zucht (Referent: Mich
 ael Lehmann)\nWas bedeutet Züchten?\nMindesthaltungsbestimmungen\, Zuchtst
 ätte\, Management einer Zuchtstätte\, Gesetze\, Verordnungen und Vertragsr
 echt\n\n\n\n\nSamstag\, 18.03.2023\n18 bis ca. 20 Uhr\n\n\nModul 2: Vererb
 ung beim Hund (Referentin: Diana Stodolka)\nVererbungsgesetzmäßigkeiten\, 
 Grundkenntnisse der Genetik\, Ziel und Methode der Zuchtwahl\, Verpaarungs
 systeme\, Probleme in der Hundezucht\, Zuchtwertschätzung\n\n\n\n\nFreitag
 \, 24.03.2023\n18 bis ca. 20 Uhr\n\n\nModul 3: Zuchttechnik (Referent: Mic
 hael Lehmann)\nZuchtrüde\, Vorbereitung Verpaarung\, Läufigkeit\, der Deck
 akt\, Probleme beim Decken\n\n\n\n\nSamstag\, 25.03.2023\n18 bis ca. 20 Uh
 r\n\n\nModul 4: Geburt bis zur 8. Woche (Referentin: Petra Kujat)\nGeburt\
 , Probleme während der Geburt\, Wochenbett\, Entwicklungsphasen der Welpen
 \, Welpenaufzucht\, Wurfabnahme\n\n\n\n\nFreitag\, 31.03.2023\n18 bis ca. 
 20 Uhr\n&nbsp\;\n\n\nModul 5: Anatomie (Referent: Michael Lehmann) Standar
 d FCI 153\, Gangwerk\, Vorstellung verschiedener Gangwerksarten\, Auswertu
 ngen Gangwerksarten anhand von Videofilmen.\n&nbsp\;\n\n\n\n\nAnmeldung:pe
 r Email unter Angabe der Module und Hunderasse\, an Petra Kujat:&nbsp\;bil
 dungsobmann@dalmatiner-deutschland.de&nbsp\;Anmeldeschluss: 10.03.2023\nVi
 deokonferenztool: zoom&nbsp\;\nTermin Probelauf:&nbsp\;14.03.2023\, 19 Uhr
 \nDamit das Online-Seminar reibungslos klappt\, bieten wir für alleTeilneh
 mer einen zoom-Meeting Probelauf an.Den Link zum zoom-Probelauf und zum zo
 om-Meeting erhalten Sie jeweils per Email.\nKosten pro Modul: 10\,00 EUR\,
  für DZDG-Mitglieder 5\,00 EUR\nBezahlung&nbsp\;per Überweisung an:Volksba
 nk Halle (Saale) eGIBAN: DE37 8009 3784 0046 703003BIC: GENODEF1HALBetreff
 : Züchterseminar 2023\, Name\, Module\nFür DZGD-Mitglieder gilt die Teilna
 hme als anerkannter Nachweis für die erforderliche Fort- und Weiterbildung
  (gemäß Zuchtordnung § 6 (2)). Alle Teilnehmer erhalten ein Zertifikat.\nW
 ir freuen uns auf Ihre Teilnahme am 3. Online- Erstzüchter- und Züchtersem
 inar 2023.\nPetra Kujat Bildungsobmann der DZGD e.V. https://www.dalmatine
 r-deutschland.de/infocenter/termine/event/51-erstzuechter-und-zuechtersemi
 nar-modul-1
DTSTART:20230317T170000Z
DTEND:20230317T190000Z
LOCATION:Online per Zoom ()
SUMMARY:Erstzüchter- und Züchterseminar Modul 1
URL:https://www.dalmatiner-deutschland.de/infocenter/termine/event/51-erstz
 uechter-und-zuechterseminar-modul-1
END:VEVENT
END:VCALENDAR
