BEGIN:VCALENDAR
VERSION:2.0
PRODID:-//https://www.dalmatiner-deutschland.de///NONSGML kigkonsult.se iCalcreator 2.10.15//
METHOD:PUBLISH
BEGIN:VEVENT
UID:20260421T104352CEST-8790hSlh1W@https://www.dalmatiner-deutschland.de/
DTSTAMP:20260421T084352Z
DESCRIPTION:Auch dieses Jahr wollen wir wieder sportlich in den Sommer star
 ten.Auf unterschiedlichen Distanzen in verschiedenen Disziplinen können si
 ch wieder sportbegeisterte Mensch-Hunde Teams den sportlichen Herausforder
 ungen stellen und die Freude am Wettkampf erleben.Die diesjährigen Diszipl
 inen sind:• Laufen (ohne Zug) 5km oder 10km• Radfahren 6km (Hunde laufen n
 eben dem Rad ohne Zug)• Wandern 5km oder 10km• Caniwalk / Caniwalk double 
 ( gehen im Zug) 6km• Reiten 5kmAufgrund zu erwartender sommerlicher Temper
 aturen entfallen die Disziplinen Canicross und Dogscooter.Die Strecke und 
 Uhrzeit ist von euch frei wählbar. Zur Wertung ist dann ein Screenshot mit
  der absolvierten Strecke inklusive erreichter Zeit erforderlich. Auch ein
  Zielfoto von euch mit eurem Vierbeiner darf natürlich nicht fehlen.\nDatu
 m:&nbsp\;18.06.26 00:00 Uhr – 22.06.2026 23:59 UhrOrt: Frei wählbarTeilnah
 megebühr Pro Mensch-Hund Team:•Mitglied Abt. Sport 4€•Mitglied DZGD 5€•Nic
 htmitglieder 6€• Kinder U16: 4€Der Meldeschluss ist der&nbsp\;17.06.2026Di
 e Anmeldung erfolgt über Meldeschein per E-Mail an sportobfrau@dalmatiner-
 deutschland.deDie Anmeldung ist verbindlich und verpflichtet zur Zahlung d
 er Teilnahmegebühren.Eure SportobfrauNicole Trinks https://www.dalmatiner-
 deutschland.de/sport/termine/event/317-welcome-summer-event-2026
DTSTART:20260617T220100Z
DTEND:20260622T215900Z
LOCATION:Online (online)
SUMMARY:Welcome Summer Event 2026
URL:https://www.dalmatiner-deutschland.de/sport/termine/event/317-welcome-s
 ummer-event-2026
END:VEVENT
END:VCALENDAR
